BEGIN:VCALENDAR
VERSION:2.0
PRODID:icalendar-ruby
CALSCALE:GREGORIAN
METHOD:PUBLISH
BEGIN:VEVENT
DTSTAMP:20260420T033146Z
UID:16-432219@avongrove.church
DTSTART:20260930T221500Z
DTEND:20260930T233000Z
CLASS:PUBLIC
CREATED:20260419T195609
DESCRIPTION:
LAST-MODIFIED:20260419T195609
LOCATION:
SUMMARY:Kingdom Kids
URL;VALUE=URI:https://avongrove.church/events/kingdom-kids/2026-09-30
ATTACH;FILENAME=AGCNKingdom-Kids-1500x784.png;FMTTYPE=image/png:https://dq5
 pwpg1q8ru0.cloudfront.net/2024/10/14/15/58/16/fffff011-9feb-4eb8-bba2-9731
 10aa6511/AGCNKingdom-Kids-1500x784.png
END:VEVENT
END:VCALENDAR
